BEGIN:VCALENDAR
VERSION:2.0
PRODID:-//BALLROOM OCH LATIN DANS I VÄSTERÅS OCH NORRKÖPING - ECPv6.15.20//NONSGML v1.0//EN
CALSCALE:GREGORIAN
METHOD:PUBLISH
X-ORIGINAL-URL:https://foxtrotdc.se
X-WR-CALDESC:Händelser för BALLROOM OCH LATIN DANS I VÄSTERÅS OCH NORRKÖPING
REFRESH-INTERVAL;VALUE=DURATION:PT1H
X-Robots-Tag:noindex
X-PUBLISHED-TTL:PT1H
BEGIN:VTIMEZONE
TZID:UTC
BEGIN:STANDARD
TZOFFSETFROM:+0000
TZOFFSETTO:+0000
TZNAME:UTC
DTSTART:20230101T000000
END:STANDARD
END:VTIMEZONE
BEGIN:VEVENT
DTSTART;TZID=UTC:20241127T174500
DTEND;TZID=UTC:20241127T184500
DTSTAMP:20260423T112825
CREATED:20240902T232905Z
LAST-MODIFIED:20240902T232905Z
UID:1339-1732729500-1732733100@foxtrotdc.se
SUMMARY:Vuxengrupp.Nybörjare
DESCRIPTION:Lindövägen 72
URL:https://foxtrotdc.se/event/vuxengrupp-nyborjare-11/
LOCATION:NOSD\, Lindövägen 72
CATEGORIES:Kalender HT24
END:VEVENT
BEGIN:VEVENT
DTSTART;TZID=UTC:20241127T184500
DTEND;TZID=UTC:20241127T194500
DTSTAMP:20260423T112825
CREATED:20240902T232959Z
LAST-MODIFIED:20240902T232959Z
UID:1341-1732733100-1732736700@foxtrotdc.se
SUMMARY:Vuxengrupp.Fortsättning
DESCRIPTION:Lindövägen 72
URL:https://foxtrotdc.se/event/vuxengrupp-fortsattning-20/
LOCATION:NOSD\, Lindövägen 72
CATEGORIES:Kalender HT24
END:VEVENT
BEGIN:VEVENT
DTSTART;TZID=UTC:20241130T130000
DTEND;TZID=UTC:20241130T140000
DTSTAMP:20260423T112825
CREATED:20240902T233049Z
LAST-MODIFIED:20240902T233049Z
UID:1343-1732971600-1732975200@foxtrotdc.se
SUMMARY:Barngrupp
DESCRIPTION:Himmestalundshallen
URL:https://foxtrotdc.se/event/barngrupp-10/
LOCATION:Himmelstalundshallen
CATEGORIES:Kalender HT24
END:VEVENT
BEGIN:VEVENT
DTSTART;TZID=UTC:20241130T140000
DTEND;TZID=UTC:20241130T150000
DTSTAMP:20260423T112825
CREATED:20240902T233137Z
LAST-MODIFIED:20240902T233137Z
UID:1345-1732975200-1732978800@foxtrotdc.se
SUMMARY:Vuxengrupp.Fortsättning
DESCRIPTION:Himmelstalundshallen
URL:https://foxtrotdc.se/event/vuxengrupp-fortsattning-21/
LOCATION:Himmelstalundshallen
CATEGORIES:Kalender HT24
END:VEVENT
BEGIN:VEVENT
DTSTART;TZID=UTC:20241204T174500
DTEND;TZID=UTC:20241204T184500
DTSTAMP:20260423T112825
CREATED:20240902T233604Z
LAST-MODIFIED:20240902T233604Z
UID:1347-1733334300-1733337900@foxtrotdc.se
SUMMARY:Vuxengrupp.Nybörjare
DESCRIPTION:Lindövägen 72
URL:https://foxtrotdc.se/event/vuxengrupp-nyborjare-12/
LOCATION:NOSD\, Lindövägen 72
CATEGORIES:Kalender HT24
END:VEVENT
BEGIN:VEVENT
DTSTART;TZID=UTC:20241204T184500
DTEND;TZID=UTC:20241204T194500
DTSTAMP:20260423T112825
CREATED:20240902T233651Z
LAST-MODIFIED:20240902T233651Z
UID:1349-1733337900-1733341500@foxtrotdc.se
SUMMARY:Vuxengrupp.Fortsättning
DESCRIPTION:Lindövägen 72
URL:https://foxtrotdc.se/event/vuxengrupp-fortsattning-22/
LOCATION:NOSD\, Lindövägen 72
CATEGORIES:Kalender HT24
END:VEVENT
BEGIN:VEVENT
DTSTART;TZID=UTC:20241207T130000
DTEND;TZID=UTC:20241207T140000
DTSTAMP:20260423T112825
CREATED:20240902T233748Z
LAST-MODIFIED:20240902T233748Z
UID:1351-1733576400-1733580000@foxtrotdc.se
SUMMARY:Barngrupp
DESCRIPTION:Himmelstalundshallen
URL:https://foxtrotdc.se/event/barngrupp-11/
LOCATION:Himmelstalundshallen
CATEGORIES:Kalender HT24
END:VEVENT
BEGIN:VEVENT
DTSTART;TZID=UTC:20241207T140000
DTEND;TZID=UTC:20241207T150000
DTSTAMP:20260423T112825
CREATED:20240902T233846Z
LAST-MODIFIED:20240902T233846Z
UID:1353-1733580000-1733583600@foxtrotdc.se
SUMMARY:Vuxengrupp.Fortsättning
DESCRIPTION:Himmelstalundshallen
URL:https://foxtrotdc.se/event/vuxengrupp-fortsattning-23/
LOCATION:Himmelstalundshallen
CATEGORIES:Kalender HT24
END:VEVENT
BEGIN:VEVENT
DTSTART;TZID=UTC:20241214T130000
DTEND;TZID=UTC:20241214T140000
DTSTAMP:20260423T112825
CREATED:20240902T233944Z
LAST-MODIFIED:20240902T233944Z
UID:1355-1734181200-1734184800@foxtrotdc.se
SUMMARY:Barngrupp
DESCRIPTION:Himmelstalundshallen
URL:https://foxtrotdc.se/event/barngrupp-12/
LOCATION:Himmelstalundshallen
CATEGORIES:Kalender HT24
END:VEVENT
BEGIN:VEVENT
DTSTART;TZID=UTC:20241214T140000
DTEND;TZID=UTC:20241214T150000
DTSTAMP:20260423T112825
CREATED:20240902T234031Z
LAST-MODIFIED:20240902T234031Z
UID:1357-1734184800-1734188400@foxtrotdc.se
SUMMARY:Vuxengrupp.Fortsättning
DESCRIPTION:Himmelstalundshallen
URL:https://foxtrotdc.se/event/vuxengrupp-fortsattning-24/
LOCATION:Himmelstalundshallen
CATEGORIES:Kalender HT24
END:VEVENT
END:VCALENDAR