BEGIN:VCALENDAR
VERSION:2.0
PRODID:-//BALLROOM OCH LATIN DANS I VÄSTERÅS OCH NORRKÖPING - ECPv6.15.20//NONSGML v1.0//EN
CALSCALE:GREGORIAN
METHOD:PUBLISH
X-WR-CALNAME:BALLROOM OCH LATIN DANS I VÄSTERÅS OCH NORRKÖPING
X-ORIGINAL-URL:https://foxtrotdc.se
X-WR-CALDESC:Händelser för BALLROOM OCH LATIN DANS I VÄSTERÅS OCH NORRKÖPING
REFRESH-INTERVAL;VALUE=DURATION:PT1H
X-Robots-Tag:noindex
X-PUBLISHED-TTL:PT1H
BEGIN:VTIMEZONE
TZID:UTC
BEGIN:STANDARD
TZOFFSETFROM:+0000
TZOFFSETTO:+0000
TZNAME:UTC
DTSTART:20230101T000000
END:STANDARD
END:VTIMEZONE
BEGIN:VEVENT
DTSTART;TZID=UTC:20241026T130000
DTEND;TZID=UTC:20241026T140000
DTSTAMP:20260425T161711
CREATED:20240902T230903Z
LAST-MODIFIED:20240902T230903Z
UID:1315-1729947600-1729951200@foxtrotdc.se
SUMMARY:Barngrupp
DESCRIPTION:Annan plats
URL:https://foxtrotdc.se/event/barngrupp-7/
CATEGORIES:Kalender HT24
END:VEVENT
BEGIN:VEVENT
DTSTART;TZID=UTC:20241026T140000
DTEND;TZID=UTC:20241026T150000
DTSTAMP:20260425T161711
CREATED:20240902T230940Z
LAST-MODIFIED:20240902T231040Z
UID:1317-1729951200-1729954800@foxtrotdc.se
SUMMARY:Vuxengrupp.Fortsättning
DESCRIPTION:Annan plats
URL:https://foxtrotdc.se/event/vuxengrupp-fortsattning-14/
CATEGORIES:Kalender HT24
END:VEVENT
BEGIN:VEVENT
DTSTART;TZID=UTC:20241106T174500
DTEND;TZID=UTC:20241106T184500
DTSTAMP:20260425T161711
CREATED:20240902T231318Z
LAST-MODIFIED:20240902T231318Z
UID:1319-1730915100-1730918700@foxtrotdc.se
SUMMARY:Vuxengrupp.Nybörjare
DESCRIPTION:Lindövägen 72
URL:https://foxtrotdc.se/event/vuxengrupp-nyborjare-8/
LOCATION:NOSD\, Lindövägen 72
CATEGORIES:Kalender HT24
END:VEVENT
BEGIN:VEVENT
DTSTART;TZID=UTC:20241106T184500
DTEND;TZID=UTC:20241106T194500
DTSTAMP:20260425T161711
CREATED:20240902T231417Z
LAST-MODIFIED:20240902T231417Z
UID:1321-1730918700-1730922300@foxtrotdc.se
SUMMARY:Vuxengrupp.Fortsättning
DESCRIPTION:Lindövägen 72
URL:https://foxtrotdc.se/event/vuxengrupp-fortsattning-15/
LOCATION:NOSD\, Lindövägen 72
CATEGORIES:Kalender HT24
END:VEVENT
BEGIN:VEVENT
DTSTART;TZID=UTC:20241109T130000
DTEND;TZID=UTC:20241109T140000
DTSTAMP:20260425T161711
CREATED:20240902T231506Z
LAST-MODIFIED:20240902T231506Z
UID:1323-1731157200-1731160800@foxtrotdc.se
SUMMARY:Barngrupp
DESCRIPTION:Himmelstalundshallen
URL:https://foxtrotdc.se/event/barngrupp-8/
LOCATION:Himmelstalundshallen\, Vattenverksvägen 12\, Norrköping
CATEGORIES:Kalender HT24
END:VEVENT
BEGIN:VEVENT
DTSTART;TZID=UTC:20241109T140000
DTEND;TZID=UTC:20241109T150000
DTSTAMP:20260425T161711
CREATED:20240902T231552Z
LAST-MODIFIED:20240902T231605Z
UID:1325-1731160800-1731164400@foxtrotdc.se
SUMMARY:Vuxengrupp.Fortsättning
DESCRIPTION:Himmelstalundshallen
URL:https://foxtrotdc.se/event/vuxengrupp-fortsattning-16/
LOCATION:Himmelstalundshallen
CATEGORIES:Kalender HT24
END:VEVENT
BEGIN:VEVENT
DTSTART;TZID=UTC:20241113T054500
DTEND;TZID=UTC:20241113T184500
DTSTAMP:20260425T161711
CREATED:20240902T232027Z
LAST-MODIFIED:20240902T232027Z
UID:1327-1731476700-1731523500@foxtrotdc.se
SUMMARY:Vuxengrupp.Nybörjare
DESCRIPTION:Lindövägen 72
URL:https://foxtrotdc.se/event/vuxengrupp-nyborjare-9/
LOCATION:NOSD\, Lindövägen 72
CATEGORIES:Kalender HT24
END:VEVENT
BEGIN:VEVENT
DTSTART;TZID=UTC:20241113T184500
DTEND;TZID=UTC:20241113T194500
DTSTAMP:20260425T161711
CREATED:20240902T232252Z
LAST-MODIFIED:20240902T232252Z
UID:1329-1731523500-1731527100@foxtrotdc.se
SUMMARY:Vuxengrupp.Fortsättning
DESCRIPTION:Lindövägen 72
URL:https://foxtrotdc.se/event/vuxengrupp-fortsattning-17/
LOCATION:NOSD\, Lindövägen 72
CATEGORIES:Kalender HT24
END:VEVENT
BEGIN:VEVENT
DTSTART;TZID=UTC:20241120T174500
DTEND;TZID=UTC:20241120T184500
DTSTAMP:20260425T161711
CREATED:20240902T232651Z
LAST-MODIFIED:20240902T232651Z
UID:1335-1732124700-1732128300@foxtrotdc.se
SUMMARY:Vuxengrupp.Nybörjare
DESCRIPTION:Lindövägen 72
URL:https://foxtrotdc.se/event/vuxengrupp-nyborjare-10/
LOCATION:NOSD\, Lindövägen 72
CATEGORIES:Kalender HT24
END:VEVENT
BEGIN:VEVENT
DTSTART;TZID=UTC:20241120T184500
DTEND;TZID=UTC:20241120T194500
DTSTAMP:20260425T161711
CREATED:20240902T232753Z
LAST-MODIFIED:20240902T232753Z
UID:1337-1732128300-1732131900@foxtrotdc.se
SUMMARY:Vuxengrupp.Fortsättning
DESCRIPTION:Lindövägen 72
URL:https://foxtrotdc.se/event/vuxengrupp-fortsattning-19/
LOCATION:NOSD\, Lindövägen 72
CATEGORIES:Kalender HT24
END:VEVENT
BEGIN:VEVENT
DTSTART;TZID=UTC:20241123T130000
DTEND;TZID=UTC:20241123T140000
DTSTAMP:20260425T161711
CREATED:20240902T232337Z
LAST-MODIFIED:20240902T232537Z
UID:1331-1732366800-1732370400@foxtrotdc.se
SUMMARY:Barngrupp
DESCRIPTION:Himmelstalundshallen
URL:https://foxtrotdc.se/event/barngrupp-9/
LOCATION:Himmelstalundshallen
CATEGORIES:Kalender HT24
END:VEVENT
BEGIN:VEVENT
DTSTART;TZID=UTC:20241123T140000
DTEND;TZID=UTC:20241123T150000
DTSTAMP:20260425T161711
CREATED:20240902T232427Z
LAST-MODIFIED:20240902T232505Z
UID:1333-1732370400-1732374000@foxtrotdc.se
SUMMARY:Vuxengrupp.Fortsättning
DESCRIPTION:Himmelstalundshallen
URL:https://foxtrotdc.se/event/vuxengrupp-fortsattning-18/
LOCATION:Himmelstalundshallen
CATEGORIES:Kalender HT24
END:VEVENT
BEGIN:VEVENT
DTSTART;TZID=UTC:20241127T174500
DTEND;TZID=UTC:20241127T184500
DTSTAMP:20260425T161711
CREATED:20240902T232905Z
LAST-MODIFIED:20240902T232905Z
UID:1339-1732729500-1732733100@foxtrotdc.se
SUMMARY:Vuxengrupp.Nybörjare
DESCRIPTION:Lindövägen 72
URL:https://foxtrotdc.se/event/vuxengrupp-nyborjare-11/
LOCATION:NOSD\, Lindövägen 72
CATEGORIES:Kalender HT24
END:VEVENT
BEGIN:VEVENT
DTSTART;TZID=UTC:20241127T184500
DTEND;TZID=UTC:20241127T194500
DTSTAMP:20260425T161711
CREATED:20240902T232959Z
LAST-MODIFIED:20240902T232959Z
UID:1341-1732733100-1732736700@foxtrotdc.se
SUMMARY:Vuxengrupp.Fortsättning
DESCRIPTION:Lindövägen 72
URL:https://foxtrotdc.se/event/vuxengrupp-fortsattning-20/
LOCATION:NOSD\, Lindövägen 72
CATEGORIES:Kalender HT24
END:VEVENT
BEGIN:VEVENT
DTSTART;TZID=UTC:20241130T130000
DTEND;TZID=UTC:20241130T140000
DTSTAMP:20260425T161711
CREATED:20240902T233049Z
LAST-MODIFIED:20240902T233049Z
UID:1343-1732971600-1732975200@foxtrotdc.se
SUMMARY:Barngrupp
DESCRIPTION:Himmestalundshallen
URL:https://foxtrotdc.se/event/barngrupp-10/
LOCATION:Himmelstalundshallen
CATEGORIES:Kalender HT24
END:VEVENT
BEGIN:VEVENT
DTSTART;TZID=UTC:20241130T140000
DTEND;TZID=UTC:20241130T150000
DTSTAMP:20260425T161711
CREATED:20240902T233137Z
LAST-MODIFIED:20240902T233137Z
UID:1345-1732975200-1732978800@foxtrotdc.se
SUMMARY:Vuxengrupp.Fortsättning
DESCRIPTION:Himmelstalundshallen
URL:https://foxtrotdc.se/event/vuxengrupp-fortsattning-21/
LOCATION:Himmelstalundshallen
CATEGORIES:Kalender HT24
END:VEVENT
BEGIN:VEVENT
DTSTART;TZID=UTC:20241204T174500
DTEND;TZID=UTC:20241204T184500
DTSTAMP:20260425T161711
CREATED:20240902T233604Z
LAST-MODIFIED:20240902T233604Z
UID:1347-1733334300-1733337900@foxtrotdc.se
SUMMARY:Vuxengrupp.Nybörjare
DESCRIPTION:Lindövägen 72
URL:https://foxtrotdc.se/event/vuxengrupp-nyborjare-12/
LOCATION:NOSD\, Lindövägen 72
CATEGORIES:Kalender HT24
END:VEVENT
BEGIN:VEVENT
DTSTART;TZID=UTC:20241204T184500
DTEND;TZID=UTC:20241204T194500
DTSTAMP:20260425T161711
CREATED:20240902T233651Z
LAST-MODIFIED:20240902T233651Z
UID:1349-1733337900-1733341500@foxtrotdc.se
SUMMARY:Vuxengrupp.Fortsättning
DESCRIPTION:Lindövägen 72
URL:https://foxtrotdc.se/event/vuxengrupp-fortsattning-22/
LOCATION:NOSD\, Lindövägen 72
CATEGORIES:Kalender HT24
END:VEVENT
BEGIN:VEVENT
DTSTART;TZID=UTC:20241207T130000
DTEND;TZID=UTC:20241207T140000
DTSTAMP:20260425T161711
CREATED:20240902T233748Z
LAST-MODIFIED:20240902T233748Z
UID:1351-1733576400-1733580000@foxtrotdc.se
SUMMARY:Barngrupp
DESCRIPTION:Himmelstalundshallen
URL:https://foxtrotdc.se/event/barngrupp-11/
LOCATION:Himmelstalundshallen
CATEGORIES:Kalender HT24
END:VEVENT
BEGIN:VEVENT
DTSTART;TZID=UTC:20241207T140000
DTEND;TZID=UTC:20241207T150000
DTSTAMP:20260425T161711
CREATED:20240902T233846Z
LAST-MODIFIED:20240902T233846Z
UID:1353-1733580000-1733583600@foxtrotdc.se
SUMMARY:Vuxengrupp.Fortsättning
DESCRIPTION:Himmelstalundshallen
URL:https://foxtrotdc.se/event/vuxengrupp-fortsattning-23/
LOCATION:Himmelstalundshallen
CATEGORIES:Kalender HT24
END:VEVENT
BEGIN:VEVENT
DTSTART;TZID=UTC:20241214T130000
DTEND;TZID=UTC:20241214T140000
DTSTAMP:20260425T161711
CREATED:20240902T233944Z
LAST-MODIFIED:20240902T233944Z
UID:1355-1734181200-1734184800@foxtrotdc.se
SUMMARY:Barngrupp
DESCRIPTION:Himmelstalundshallen
URL:https://foxtrotdc.se/event/barngrupp-12/
LOCATION:Himmelstalundshallen
CATEGORIES:Kalender HT24
END:VEVENT
BEGIN:VEVENT
DTSTART;TZID=UTC:20241214T140000
DTEND;TZID=UTC:20241214T150000
DTSTAMP:20260425T161711
CREATED:20240902T234031Z
LAST-MODIFIED:20240902T234031Z
UID:1357-1734184800-1734188400@foxtrotdc.se
SUMMARY:Vuxengrupp.Fortsättning
DESCRIPTION:Himmelstalundshallen
URL:https://foxtrotdc.se/event/vuxengrupp-fortsattning-24/
LOCATION:Himmelstalundshallen
CATEGORIES:Kalender HT24
END:VEVENT
END:VCALENDAR