BEGIN:VCALENDAR
VERSION:2.0
PRODID:-//BALLROOM OCH LATIN DANS I VÄSTERÅS OCH NORRKÖPING - ECPv6.15.20//NONSGML v1.0//EN
CALSCALE:GREGORIAN
METHOD:PUBLISH
X-ORIGINAL-URL:https://foxtrotdc.se
X-WR-CALDESC:Händelser för BALLROOM OCH LATIN DANS I VÄSTERÅS OCH NORRKÖPING
REFRESH-INTERVAL;VALUE=DURATION:PT1H
X-Robots-Tag:noindex
X-PUBLISHED-TTL:PT1H
BEGIN:VTIMEZONE
TZID:UTC
BEGIN:STANDARD
TZOFFSETFROM:+0000
TZOFFSETTO:+0000
TZNAME:UTC
DTSTART:20230101T000000
END:STANDARD
END:VTIMEZONE
BEGIN:VEVENT
DTSTART;TZID=UTC:20241214T130000
DTEND;TZID=UTC:20241214T140000
DTSTAMP:20260423T092618
CREATED:20240902T233944Z
LAST-MODIFIED:20240902T233944Z
UID:1355-1734181200-1734184800@foxtrotdc.se
SUMMARY:Barngrupp
DESCRIPTION:Himmelstalundshallen
URL:https://foxtrotdc.se/event/barngrupp-12/
LOCATION:Himmelstalundshallen
CATEGORIES:Kalender HT24
END:VEVENT
BEGIN:VEVENT
DTSTART;TZID=UTC:20241214T140000
DTEND;TZID=UTC:20241214T150000
DTSTAMP:20260423T092618
CREATED:20240902T234031Z
LAST-MODIFIED:20240902T234031Z
UID:1357-1734184800-1734188400@foxtrotdc.se
SUMMARY:Vuxengrupp.Fortsättning
DESCRIPTION:Himmelstalundshallen
URL:https://foxtrotdc.se/event/vuxengrupp-fortsattning-24/
LOCATION:Himmelstalundshallen
CATEGORIES:Kalender HT24
END:VEVENT
END:VCALENDAR