BEGIN:VCALENDAR
VERSION:2.0
PRODID:-//BALLROOM OCH LATIN DANS I VÄSTERÅS OCH NORRKÖPING - ECPv6.15.20//NONSGML v1.0//EN
CALSCALE:GREGORIAN
METHOD:PUBLISH
X-WR-CALNAME:BALLROOM OCH LATIN DANS I VÄSTERÅS OCH NORRKÖPING
X-ORIGINAL-URL:https://foxtrotdc.se
X-WR-CALDESC:Händelser för BALLROOM OCH LATIN DANS I VÄSTERÅS OCH NORRKÖPING
REFRESH-INTERVAL;VALUE=DURATION:PT1H
X-Robots-Tag:noindex
X-PUBLISHED-TTL:PT1H
BEGIN:VTIMEZONE
TZID:UTC
BEGIN:STANDARD
TZOFFSETFROM:+0000
TZOFFSETTO:+0000
TZNAME:UTC
DTSTART:20230101T000000
END:STANDARD
END:VTIMEZONE
BEGIN:VEVENT
DTSTART;TZID=UTC:20241130T130000
DTEND;TZID=UTC:20241130T140000
DTSTAMP:20260423T083127
CREATED:20240902T233049Z
LAST-MODIFIED:20240902T233049Z
UID:1343-1732971600-1732975200@foxtrotdc.se
SUMMARY:Barngrupp
DESCRIPTION:Himmestalundshallen
URL:https://foxtrotdc.se/event/barngrupp-10/
LOCATION:Himmelstalundshallen
CATEGORIES:Kalender HT24
END:VEVENT
BEGIN:VEVENT
DTSTART;TZID=UTC:20241130T140000
DTEND;TZID=UTC:20241130T150000
DTSTAMP:20260423T083127
CREATED:20240902T233137Z
LAST-MODIFIED:20240902T233137Z
UID:1345-1732975200-1732978800@foxtrotdc.se
SUMMARY:Vuxengrupp.Fortsättning
DESCRIPTION:Himmelstalundshallen
URL:https://foxtrotdc.se/event/vuxengrupp-fortsattning-21/
LOCATION:Himmelstalundshallen
CATEGORIES:Kalender HT24
END:VEVENT
END:VCALENDAR